BEGIN:VCALENDAR
PRODID:-//eluceo/ical//2.0/EN
VERSION:2.0
CALSCALE:GREGORIAN
BEGIN:VEVENT
UID:hey.bayern.694619.6553677
DTSTAMP:20260421T063243Z
SUMMARY:Eröffnung der Ausstellung "Kunstovller Mai - Kunst zum Fühlen und
  Staunen"
DTSTART;TZID=Europe/Berlin:20260529T193000
DTEND;TZID=Europe/Berlin:20260529T235900
LOCATION:Badweg 1\, 4190 Bad Leonfelden\, Österreich
GEO:48.519341;14.287545
X-APPLE-STRUCTURED-LOCATION;VALUE=URI;X-ADDRESS=Badweg 1\, 4190 Bad Leonfel
 den\, Österreich;X-APPLE-RADIUS=49;X-TITLE=:geo:48.519341,14.287545
URL;VALUE=URI:https://hey-schweiz.com/events/694619
END:VEVENT
END:VCALENDAR
