BEGIN:VCALENDAR
PRODID:-//eluceo/ical//2.0/EN
VERSION:2.0
CALSCALE:GREGORIAN
BEGIN:VEVENT
UID:hey.bayern.694623.6553697
DTSTAMP:20260421T090115Z
SUMMARY:Kinder Mountainbike Training
DTSTART;TZID=Europe/Berlin:20260608T153000
DTEND;TZID=Europe/Berlin:20260608T235900
LOCATION:Bauernstraße 43\, 4600 Wels\, Österreich
GEO:48.147706;14.012706
X-APPLE-STRUCTURED-LOCATION;VALUE=URI;X-ADDRESS=Bauernstraße 43\, 4600 Wel
 s\, Österreich;X-APPLE-RADIUS=49;X-TITLE=:geo:48.147706,14.012706
URL;VALUE=URI:https://hey-schweiz.com/events/694623
END:VEVENT
END:VCALENDAR
