BEGIN:VCALENDAR
PRODID:-//eluceo/ical//2.0/EN
VERSION:2.0
CALSCALE:GREGORIAN
BEGIN:VEVENT
UID:hey.bayern.694625.6553710
DTSTAMP:20260421T011157Z
SUMMARY:Maiandachten in Abersee
DTSTART;TZID=Europe/Berlin:20260510T190000
DTEND;TZID=Europe/Berlin:20260510T235900
LOCATION:Seestraße 90\, 5342 Abersee - St. Gilgen\, Österreich
GEO:47.732183;13.428401
X-APPLE-STRUCTURED-LOCATION;VALUE=URI;X-ADDRESS=Seestraße 90\, 5342 Aberse
 e - St. Gilgen\, Österreich;X-APPLE-RADIUS=49;X-TITLE=:geo:47.732183,13.4
 28401
URL;VALUE=URI:https://hey-schweiz.com/events/694625
END:VEVENT
END:VCALENDAR
