BEGIN:VCALENDAR
PRODID:-//eluceo/ical//2.0/EN
VERSION:2.0
CALSCALE:GREGORIAN
BEGIN:VEVENT
UID:hey.bayern.694626.6553722
DTSTAMP:20260421T050249Z
SUMMARY:Maibaumaufstellen des ÖTB TV Alpenrose Bad Goisern
DTSTART;TZID=Europe/Berlin:20260430T180000
DTEND;TZID=Europe/Berlin:20260430T235900
LOCATION:Kurparkstraße\, 4822 Bad Goisern am Hallstättersee\, Österreich
GEO:47.641837;13.614396
X-APPLE-STRUCTURED-LOCATION;VALUE=URI;X-ADDRESS=Kurparkstraße\, 4822 Bad G
 oisern am Hallstättersee\, Österreich;X-APPLE-RADIUS=49;X-TITLE=:geo:47.
 641837,13.614396
URL;VALUE=URI:https://hey-schweiz.com/events/694626
END:VEVENT
END:VCALENDAR
