BEGIN:VCALENDAR
PRODID:-//eluceo/ical//2.0/EN
VERSION:2.0
CALSCALE:GREGORIAN
BEGIN:VEVENT
UID:hey.bayern.694634.6553744
DTSTAMP:20260421T063228Z
SUMMARY:Relatifs: Eingeschlechtliche Gesellschaften und Gewalt in spekulati
 ver Literatur
DTSTART;TZID=Europe/Berlin:20260512T181500
DTEND;TZID=Europe/Berlin:20260512T235900
LOCATION:Rathausgasse 5\, 4020 Linz\, Österreich
GEO:48.306550;14.287352
X-APPLE-STRUCTURED-LOCATION;VALUE=URI;X-ADDRESS=Rathausgasse 5\, 4020 Linz\
 , Österreich;X-APPLE-RADIUS=49;X-TITLE=:geo:48.306550,14.287352
URL;VALUE=URI:https://hey-schweiz.com/events/694634
END:VEVENT
END:VCALENDAR
