BEGIN:VCALENDAR
PRODID:-//eluceo/ical//2.0/EN
VERSION:2.0
CALSCALE:GREGORIAN
BEGIN:VEVENT
UID:hey.bayern.694636.6553747
DTSTAMP:20260421T053639Z
SUMMARY:SMILE - Facetten des Lächelns PRO BRASS PUR - Attergauer Kultursom
 mer 2026
DTSTART;TZID=Europe/Berlin:20260717T190000
DTEND;TZID=Europe/Berlin:20260718T000000
LOCATION:Dr. Greil Straße 8\, 4880 St. Georgen im Attergau\, Österreich
GEO:47.934423;13.485491
X-APPLE-STRUCTURED-LOCATION;VALUE=URI;X-ADDRESS=Dr. Greil Straße 8\, 4880 
 St. Georgen im Attergau\, Österreich;X-APPLE-RADIUS=49;X-TITLE=:geo:47.93
 4423,13.485491
URL;VALUE=URI:https://hey-schweiz.com/events/694636
END:VEVENT
END:VCALENDAR
