BEGIN:VCALENDAR
PRODID:-//eluceo/ical//2.0/EN
VERSION:2.0
CALSCALE:GREGORIAN
BEGIN:VEVENT
UID:hey.bayern.694639.6553939
DTSTAMP:20260423T094825Z
SUMMARY:Umgang mit Medikamente
DTSTART;TZID=Europe/Berlin:20260519T180000
DTEND;TZID=Europe/Berlin:20260519T235900
LOCATION:Rainerstraße 22\, 5310 Mondsee am Mondsee\, Österreich
GEO:47.857510;13.345940
X-APPLE-STRUCTURED-LOCATION;VALUE=URI;X-ADDRESS=Rainerstraße 22\, 5310 Mon
 dsee am Mondsee\, Österreich;X-APPLE-RADIUS=49;X-TITLE=:geo:47.857510,13.
 345940
URL;VALUE=URI:https://hey-schweiz.com/events/694639
END:VEVENT
END:VCALENDAR
