BEGIN:VCALENDAR
PRODID:-//eluceo/ical//2.0/EN
VERSION:2.0
CALSCALE:GREGORIAN
BEGIN:VEVENT
UID:hey.bayern.694641.6553941
DTSTAMP:20260421T050206Z
SUMMARY:YELLOW FLEET
DTSTART;TZID=Europe/Berlin:20260428T200000
DTEND;TZID=Europe/Berlin:20260428T220000
LOCATION:Dragonerstraße 22\, 4600 Wels\, Österreich
GEO:48.157958;14.017906
X-APPLE-STRUCTURED-LOCATION;VALUE=URI;X-ADDRESS=Dragonerstraße 22\, 4600 W
 els\, Österreich;X-APPLE-RADIUS=49;X-TITLE=:geo:48.157958,14.017906
URL;VALUE=URI:https://hey-schweiz.com/events/694641
END:VEVENT
END:VCALENDAR
