BEGIN:VCALENDAR
PRODID:-//eluceo/ical//2.0/EN
VERSION:2.0
CALSCALE:GREGORIAN
BEGIN:VEVENT
UID:hey.bayern.694645.6553968
DTSTAMP:20260423T024002Z
SUMMARY:4. Genusswandertag am Kogelberg - Start Dreieckswiese
DTSTART;TZID=Europe/Berlin:20260919T090000
DTEND;TZID=Europe/Berlin:20260919T180000
LOCATION:Schulstrasse 11\, 7221 Marz\, Österreich
GEO:47.723713;16.422533
X-APPLE-STRUCTURED-LOCATION;VALUE=URI;X-ADDRESS=Schulstrasse 11\, 7221 Marz
 \, Österreich;X-APPLE-RADIUS=49;X-TITLE=:geo:47.723713,16.422533
URL;VALUE=URI:https://hey-schweiz.com/events/694645
END:VEVENT
END:VCALENDAR
