BEGIN:VCALENDAR
PRODID:-//eluceo/ical//2.0/EN
VERSION:2.0
CALSCALE:GREGORIAN
BEGIN:VEVENT
UID:hey.bayern.694646.6553969
DTSTAMP:20260423T024006Z
SUMMARY:4. Genusswandertag am Kogelberg - Start Ried Klingler
DTSTART;TZID=Europe/Berlin:20260919T090000
DTEND;TZID=Europe/Berlin:20260920T090000
LOCATION:Badstraße 1\, 7020 Loipersbach im Burgenland\, Österreich
GEO:47.719419;16.446477
X-APPLE-STRUCTURED-LOCATION;VALUE=URI;X-ADDRESS=Badstraße 1\, 7020 Loipers
 bach im Burgenland\, Österreich;X-APPLE-RADIUS=49;X-TITLE=:geo:47.719419,
 16.446477
URL;VALUE=URI:https://hey-schweiz.com/events/694646
END:VEVENT
END:VCALENDAR
