BEGIN:VCALENDAR
PRODID:-//eluceo/ical//2.0/EN
VERSION:2.0
CALSCALE:GREGORIAN
BEGIN:VEVENT
UID:hey.bayern.694647.6553970
DTSTAMP:20260423T043220Z
SUMMARY:4. Genusswandertag am Kogelberg - Start Sauplatzäcker
DTSTART;TZID=Europe/Berlin:20260919T090000
DTEND;TZID=Europe/Berlin:20260919T180000
LOCATION:Hauptstraße 64\, 7025 Pöttelsdorf\, Österreich
GEO:47.741505;16.437295
X-APPLE-STRUCTURED-LOCATION;VALUE=URI;X-ADDRESS=Hauptstraße 64\, 7025 Pöt
 telsdorf\, Österreich;X-APPLE-RADIUS=49;X-TITLE=:geo:47.741505,16.437295
URL;VALUE=URI:https://hey-schweiz.com/events/694647
END:VEVENT
END:VCALENDAR
