BEGIN:VCALENDAR
PRODID:-//eluceo/ical//2.0/EN
VERSION:2.0
CALSCALE:GREGORIAN
BEGIN:VEVENT
UID:hey.bayern.694649.6553972
DTSTAMP:20260423T010928Z
SUMMARY:50 Jahre Weingut Migsich
DTSTART;TZID=Europe/Berlin:20260919T110000
DTEND;TZID=Europe/Berlin:20260920T110000
LOCATION:Kleine Zeile 66\, 7042 Antau\, Österreich
URL;VALUE=URI:https://hey-schweiz.com/events/694649
END:VEVENT
END:VCALENDAR
