BEGIN:VCALENDAR
PRODID:-//eluceo/ical//2.0/EN
VERSION:2.0
CALSCALE:GREGORIAN
BEGIN:VEVENT
UID:hey.bayern.694655.6554176
DTSTAMP:20260422T015719Z
SUMMARY:Ausstellung WOLFGANG FRIEDWAGNER & GÜNTHER SCHAFELLNER
DTSTART;TZID=Europe/Berlin:20260425T193000
DTEND;TZID=Europe/Berlin:20260425T233000
LOCATION:Pramet 25\, 4925 Pramet\, Österreich
GEO:48.139718;13.485877
X-APPLE-STRUCTURED-LOCATION;VALUE=URI;X-ADDRESS=Pramet 25\, 4925 Pramet\, 
 Österreich;X-APPLE-RADIUS=49;X-TITLE=:geo:48.139718,13.485877
URL;VALUE=URI:https://hey-schweiz.com/events/694655
END:VEVENT
END:VCALENDAR
