BEGIN:VCALENDAR
PRODID:-//eluceo/ical//2.0/EN
VERSION:2.0
CALSCALE:GREGORIAN
BEGIN:VEVENT
UID:hey.bayern.694657.6554183
DTSTAMP:20260421T234635Z
SUMMARY:Ball Burlesque
DTSTART;TZID=Europe/Berlin:20260516T190000
DTEND;TZID=Europe/Berlin:20260517T190000
LOCATION:Hauptstraße 129\, 9210 Pörtschach am Wörther See\, Österreich
URL;VALUE=URI:https://hey-schweiz.com/events/694657
END:VEVENT
END:VCALENDAR
