BEGIN:VCALENDAR
PRODID:-//eluceo/ical//2.0/EN
VERSION:2.0
CALSCALE:GREGORIAN
BEGIN:VEVENT
UID:hey.bayern.694659.6554212
DTSTAMP:20260422T021247Z
SUMMARY:Burger & Fries
DTSTART;TZID=Europe/Berlin:20260514T150000
DTEND;TZID=Europe/Berlin:20260514T235959
LOCATION:Filzmooser Straße 22\, 5532 Filzmoos\, Österreich
URL;VALUE=URI:https://hey-schweiz.com/events/694659
END:VEVENT
END:VCALENDAR
