BEGIN:VCALENDAR
PRODID:-//eluceo/ical//2.0/EN
VERSION:2.0
CALSCALE:GREGORIAN
BEGIN:VEVENT
UID:hey.bayern.694663.6554220
DTSTAMP:20260423T010923Z
SUMMARY:Das Erbe der Blutgräfin Báthory - Ein möderisches Abendmahl
DTSTART;TZID=Europe/Berlin:20261113T190000
DTEND;TZID=Europe/Berlin:20261114T190000
LOCATION:Eugen Horvath Platz 1\, 7442 Lockenhaus\, Österreich
GEO:47.403914;16.424553
X-APPLE-STRUCTURED-LOCATION;VALUE=URI;X-ADDRESS=Eugen Horvath Platz 1\, 744
 2 Lockenhaus\, Österreich;X-APPLE-RADIUS=49;X-TITLE=:geo:47.403914,16.424
 553
URL;VALUE=URI:https://hey-schweiz.com/events/694663
END:VEVENT
END:VCALENDAR
