BEGIN:VCALENDAR
PRODID:-//eluceo/ical//2.0/EN
VERSION:2.0
CALSCALE:GREGORIAN
BEGIN:VEVENT
UID:hey.bayern.694668.6554227
DTSTAMP:20260422T234759Z
SUMMARY:Dämmerschoppen mit dem Musikverein Altenstadt
DTSTART;TZID=Europe/Berlin:20260529T190000
DTEND;TZID=Europe/Berlin:20260530T190000
LOCATION:Naflastraße 12\, 6800 Feldkirch\, Österreich
GEO:47.261020;9.617470
X-APPLE-STRUCTURED-LOCATION;VALUE=URI;X-ADDRESS=Naflastraße 12\, 6800 Feld
 kirch\, Österreich;X-APPLE-RADIUS=49;X-TITLE=:geo:47.261020,9.617470
URL;VALUE=URI:https://hey-schweiz.com/events/694668
END:VEVENT
END:VCALENDAR
