BEGIN:VCALENDAR
PRODID:-//eluceo/ical//2.0/EN
VERSION:2.0
CALSCALE:GREGORIAN
BEGIN:VEVENT
UID:hey.bayern.694670.6554232
DTSTAMP:20260422T071656Z
SUMMARY:Erster Goiserer Sicherheitstag
DTSTART;TZID=Europe/Berlin:20261003T090000
DTEND;TZID=Europe/Berlin:20261003T150000
LOCATION:Obere Marktstraße 1\, 4822 Bad Goisern am Hallstättersee\, Öste
 rreich
GEO:47.640591;13.616964
X-APPLE-STRUCTURED-LOCATION;VALUE=URI;X-ADDRESS=Obere Marktstraße 1\, 4822
  Bad Goisern am Hallstättersee\, Österreich;X-APPLE-RADIUS=49;X-TITLE=:g
 eo:47.640591,13.616964
URL;VALUE=URI:https://hey-schweiz.com/events/694670
END:VEVENT
END:VCALENDAR
