BEGIN:VCALENDAR
PRODID:-//eluceo/ical//2.0/EN
VERSION:2.0
CALSCALE:GREGORIAN
BEGIN:VEVENT
UID:hey.bayern.694679.6554372
DTSTAMP:20260422T222355Z
SUMMARY:Gabetta Consort: Tango Seasons
DTSTART;TZID=Europe/Berlin:20260516T190000
DTEND;TZID=Europe/Berlin:20260517T190000
LOCATION:Rochusplatz 1\, 7461 Stadtschlaining\, Österreich
GEO:47.322521;16.280524
X-APPLE-STRUCTURED-LOCATION;VALUE=URI;X-ADDRESS=Rochusplatz 1\, 7461 Stadts
 chlaining\, Österreich;X-APPLE-RADIUS=49;X-TITLE=:geo:47.322521,16.280524
URL;VALUE=URI:https://hey-schweiz.com/events/694679
END:VEVENT
END:VCALENDAR
