BEGIN:VCALENDAR
PRODID:-//eluceo/ical//2.0/EN
VERSION:2.0
CALSCALE:GREGORIAN
BEGIN:VEVENT
UID:hey.bayern.694686.6554492
DTSTAMP:20260422T021246Z
SUMMARY:Gusto Italiano
DTSTART;TZID=Europe/Berlin:20260525T150000
DTEND;TZID=Europe/Berlin:20260525T235959
LOCATION:Filzmooser Straße 22\, 5532 Filzmoos\, Österreich
URL;VALUE=URI:https://hey-schweiz.com/events/694686
END:VEVENT
END:VCALENDAR
