BEGIN:VCALENDAR
PRODID:-//eluceo/ical//2.0/EN
VERSION:2.0
CALSCALE:GREGORIAN
BEGIN:VEVENT
UID:hey.bayern.694691.6554551
DTSTAMP:20260423T024031Z
SUMMARY:Herzensstärke | Ferienworkshop für Kinder (Start)
DTSTART;TZID=Europe/Berlin:20260803T080000
DTEND;TZID=Europe/Berlin:20260804T080000
LOCATION:Wichnergasse 17\, 6800 Feldkirch\, Österreich
GEO:47.239420;9.601530
X-APPLE-STRUCTURED-LOCATION;VALUE=URI;X-ADDRESS=Wichnergasse 17\, 6800 Feld
 kirch\, Österreich;X-APPLE-RADIUS=49;X-TITLE=:geo:47.239420,9.601530
URL;VALUE=URI:https://hey-schweiz.com/events/694691
END:VEVENT
END:VCALENDAR
