BEGIN:VCALENDAR
PRODID:-//eluceo/ical//2.0/EN
VERSION:2.0
CALSCALE:GREGORIAN
BEGIN:VEVENT
UID:hey.bayern.694693.6554553
DTSTAMP:20260423T024032Z
SUMMARY:Hillclimb 2026 Geschriebenstein
DTSTART;TZID=Europe/Berlin:20260426T110000
DTEND;TZID=Europe/Berlin:20260427T110000
URL;VALUE=URI:https://hey-schweiz.com/events/694693
END:VEVENT
END:VCALENDAR
