BEGIN:VCALENDAR
PRODID:-//eluceo/ical//2.0/EN
VERSION:2.0
CALSCALE:GREGORIAN
BEGIN:VEVENT
UID:hey.bayern.694700.6554561
DTSTAMP:20260422T005334Z
SUMMARY:KBW Workshop - Sommerschnitt
DTSTART;TZID=Europe/Berlin:20260627T080000
DTEND;TZID=Europe/Berlin:20260627T100000
LOCATION:Dorfwerfen 1\, 5452 Pfarrwerfen\, Österreich
URL;VALUE=URI:https://hey-schweiz.com/events/694700
END:VEVENT
END:VCALENDAR
