BEGIN:VCALENDAR
PRODID:-//eluceo/ical//2.0/EN
VERSION:2.0
CALSCALE:GREGORIAN
BEGIN:VEVENT
UID:hey.bayern.694701.6554573
DTSTAMP:20260422T015658Z
SUMMARY:Kibera Mainroad
DTSTART;TZID=Europe/Berlin:20260530T140000
DTEND;TZID=Europe/Berlin:20260530T180000
LOCATION:Schmidtorstraße 8\, 3. Stock\, 4020 Linz\, Österreich
GEO:48.304196;14.287778
X-APPLE-STRUCTURED-LOCATION;VALUE=URI;X-ADDRESS=Schmidtorstraße 8\, 3. Sto
 ck\, 4020 Linz\, Österreich;X-APPLE-RADIUS=49;X-TITLE=:geo:48.304196,14.2
 87778
URL;VALUE=URI:https://hey-schweiz.com/events/694701
END:VEVENT
END:VCALENDAR
