BEGIN:VCALENDAR
PRODID:-//eluceo/ical//2.0/EN
VERSION:2.0
CALSCALE:GREGORIAN
BEGIN:VEVENT
UID:hey.bayern.694702.6554574
DTSTAMP:20260422T021245Z
SUMMARY:Kinder - Maibaumaufstellen mit den Volkstanzkindern
DTSTART;TZID=Europe/Berlin:20260501T150000
DTEND;TZID=Europe/Berlin:20260501T190000
LOCATION:Schulstraße 16\, 4824 Gosau\, Österreich
GEO:47.584016;13.529288
X-APPLE-STRUCTURED-LOCATION;VALUE=URI;X-ADDRESS=Schulstraße 16\, 4824 Gosa
 u\, Österreich;X-APPLE-RADIUS=49;X-TITLE=:geo:47.584016,13.529288
URL;VALUE=URI:https://hey-schweiz.com/events/694702
END:VEVENT
END:VCALENDAR
