BEGIN:VCALENDAR
PRODID:-//eluceo/ical//2.0/EN
VERSION:2.0
CALSCALE:GREGORIAN
BEGIN:VEVENT
UID:hey.bayern.694725.6554604
DTSTAMP:20260422T005334Z
SUMMARY:Kremstal Open Air
DTSTART;TZID=Europe/Berlin:20260703T203000
DTEND;TZID=Europe/Berlin:20260703T235959
LOCATION:Stift 1\, 4550 Kremsmünster\, Österreich
GEO:48.053365;14.128766
X-APPLE-STRUCTURED-LOCATION;VALUE=URI;X-ADDRESS=Stift 1\, 4550 Kremsmünste
 r\, Österreich;X-APPLE-RADIUS=49;X-TITLE=:geo:48.053365,14.128766
URL;VALUE=URI:https://hey-schweiz.com/events/694725
END:VEVENT
END:VCALENDAR
