BEGIN:VCALENDAR
PRODID:-//eluceo/ical//2.0/EN
VERSION:2.0
CALSCALE:GREGORIAN
BEGIN:VEVENT
UID:hey.bayern.694727.6554634
DTSTAMP:20260423T001454Z
SUMMARY:Käsereibesichtigung
DTSTART;TZID=Europe/Berlin:20261005T170000
DTEND;TZID=Europe/Berlin:20261006T170000
LOCATION:Unterdorf 248\, 6886 Schoppernau\, Österreich
GEO:47.312385;10.016420
X-APPLE-STRUCTURED-LOCATION;VALUE=URI;X-ADDRESS=Unterdorf 248\, 6886 Schopp
 ernau\, Österreich;X-APPLE-RADIUS=49;X-TITLE=:geo:47.312385,10.016420
URL;VALUE=URI:https://hey-schweiz.com/events/694727
END:VEVENT
END:VCALENDAR
