BEGIN:VCALENDAR
PRODID:-//eluceo/ical//2.0/EN
VERSION:2.0
CALSCALE:GREGORIAN
BEGIN:VEVENT
UID:hey.bayern.694728.6554636
DTSTAMP:20260422T153252Z
SUMMARY:Lange Nacht der Chöre
DTSTART;TZID=Europe/Berlin:20260513T180000
DTEND;TZID=Europe/Berlin:20260513T235959
LOCATION:Herrengasse 16 / Landhaus\, 8010 Graz\, Österreich
GEO:47.070095;15.439419
X-APPLE-STRUCTURED-LOCATION;VALUE=URI;X-ADDRESS=Herrengasse 16 / Landhaus\,
  8010 Graz\, Österreich;X-APPLE-RADIUS=49;X-TITLE=:geo:47.070095,15.43941
 9
URL;VALUE=URI:https://hey-schweiz.com/events/694728
END:VEVENT
END:VCALENDAR
