BEGIN:VCALENDAR
PRODID:-//eluceo/ical//2.0/EN
VERSION:2.0
CALSCALE:GREGORIAN
BEGIN:VEVENT
UID:hey.bayern.694729.6554637
DTSTAMP:20260423T024005Z
SUMMARY:Lesezeichen falten
DTSTART;TZID=Europe/Berlin:20260801T090000
DTEND;TZID=Europe/Berlin:20260801T110000
LOCATION:Wichnergasse 17\, 6800 Feldkirch\, Österreich
GEO:47.239420;9.601530
X-APPLE-STRUCTURED-LOCATION;VALUE=URI;X-ADDRESS=Wichnergasse 17\, 6800 Feld
 kirch\, Österreich;X-APPLE-RADIUS=49;X-TITLE=:geo:47.239420,9.601530
URL;VALUE=URI:https://hey-schweiz.com/events/694729
END:VEVENT
END:VCALENDAR
