BEGIN:VCALENDAR
PRODID:-//eluceo/ical//2.0/EN
VERSION:2.0
CALSCALE:GREGORIAN
BEGIN:VEVENT
UID:hey.bayern.694730.6554639
DTSTAMP:20260422T234434Z
SUMMARY:Lesung mit Heinrich und Kuratele im Literaturhaus Mattersburg
DTSTART;TZID=Europe/Berlin:20260422T190000
DTEND;TZID=Europe/Berlin:20260423T190000
LOCATION:Wulkalände 2\, 7210 Mattersburg\, Österreich
GEO:47.738075;16.407620
X-APPLE-STRUCTURED-LOCATION;VALUE=URI;X-ADDRESS=Wulkalände 2\, 7210 Matter
 sburg\, Österreich;X-APPLE-RADIUS=49;X-TITLE=:geo:47.738075,16.407620
URL;VALUE=URI:https://hey-schweiz.com/events/694730
END:VEVENT
END:VCALENDAR
