BEGIN:VCALENDAR
PRODID:-//eluceo/ical//2.0/EN
VERSION:2.0
CALSCALE:GREGORIAN
BEGIN:VEVENT
UID:hey.bayern.694731.6554641
DTSTAMP:20260422T093128Z
SUMMARY:Let´s Golf Day Millstätter See
DTSTART;TZID=Europe/Berlin:20260501T090000
DTEND;TZID=Europe/Berlin:20260502T090000
LOCATION:Am Golfplatz 1\, 9872 Millstatt am See\, Österreich
URL;VALUE=URI:https://hey-schweiz.com/events/694731
END:VEVENT
END:VCALENDAR
