BEGIN:VCALENDAR
PRODID:-//eluceo/ical//2.0/EN
VERSION:2.0
CALSCALE:GREGORIAN
BEGIN:VEVENT
UID:hey.bayern.694732.6554642
DTSTAMP:20260422T111837Z
SUMMARY:Lichtbildvortrag: "Frei sein zu gehen"
DTSTART;TZID=Europe/Berlin:20260425T193000
DTEND;TZID=Europe/Berlin:20260425T235959
LOCATION:Wiener Straße 11\, 8630 Mariazell\, Österreich
URL;VALUE=URI:https://hey-schweiz.com/events/694732
END:VEVENT
END:VCALENDAR
