BEGIN:VCALENDAR
PRODID:-//eluceo/ical//2.0/EN
VERSION:2.0
CALSCALE:GREGORIAN
BEGIN:VEVENT
UID:hey.bayern.694733.6554650
DTSTAMP:20260422T003739Z
SUMMARY:Linzer Kerzenziehen bei Advent am Dom
DTSTART;TZID=Europe/Berlin:20261204T110000
DTEND;TZID=Europe/Berlin:20261204T110000
LOCATION:Domplatz\, 4020 Linz\, Österreich
GEO:48.300424;14.286845
X-APPLE-STRUCTURED-LOCATION;VALUE=URI;X-ADDRESS=Domplatz\, 4020 Linz\, Öst
 erreich;X-APPLE-RADIUS=49;X-TITLE=:geo:48.300424,14.286845
URL;VALUE=URI:https://hey-schweiz.com/events/694733
END:VEVENT
END:VCALENDAR
