BEGIN:VCALENDAR
PRODID:-//eluceo/ical//2.0/EN
VERSION:2.0
CALSCALE:GREGORIAN
BEGIN:VEVENT
UID:hey.bayern.694735.6554680
DTSTAMP:20260423T010952Z
SUMMARY:Luaga\, Losna und Stuna: Schausägen Latschau
DTSTART;TZID=Europe/Berlin:20260821T133000
DTEND;TZID=Europe/Berlin:20260822T133000
LOCATION:Gafazutweg 2\, 6774 Tschagguns\, Österreich
URL;VALUE=URI:https://hey-schweiz.com/events/694735
END:VEVENT
END:VCALENDAR
