BEGIN:VCALENDAR
PRODID:-//eluceo/ical//2.0/EN
VERSION:2.0
CALSCALE:GREGORIAN
BEGIN:VEVENT
UID:hey.bayern.694742.6554695
DTSTAMP:20260422T021405Z
SUMMARY:Muttertagsbrunch
DTSTART;TZID=Europe/Berlin:20260510T090000
DTEND;TZID=Europe/Berlin:20260510T235959
LOCATION:Filzmooser Straße 22\, 5532 Filzmoos\, Österreich
URL;VALUE=URI:https://hey-schweiz.com/events/694742
END:VEVENT
END:VCALENDAR
