BEGIN:VCALENDAR
PRODID:-//eluceo/ical//2.0/EN
VERSION:2.0
CALSCALE:GREGORIAN
BEGIN:VEVENT
UID:hey.bayern.694757.6555739
DTSTAMP:20260423T024003Z
SUMMARY:Rohrbacher Weihnachtsmarkt
DTSTART;TZID=Europe/Berlin:20261122T140000
DTEND;TZID=Europe/Berlin:20261123T140000
LOCATION:Karl Stix-Platz 1\, 7222 Rohrbach bei Mattersburg\, Österreich
GEO:47.708603;16.424469
X-APPLE-STRUCTURED-LOCATION;VALUE=URI;X-ADDRESS=Karl Stix-Platz 1\, 7222 Ro
 hrbach bei Mattersburg\, Österreich;X-APPLE-RADIUS=49;X-TITLE=:geo:47.708
 603,16.424469
URL;VALUE=URI:https://hey-schweiz.com/events/694757
END:VEVENT
END:VCALENDAR
