BEGIN:VCALENDAR
PRODID:-//eluceo/ical//2.0/EN
VERSION:2.0
CALSCALE:GREGORIAN
BEGIN:VEVENT
UID:hey.bayern.694763.6555797
DTSTAMP:20260422T222436Z
SUMMARY:Sommerkonzert der Militärmusik Burgenland
DTSTART;TZID=Europe/Berlin:20260612T193000
DTEND;TZID=Europe/Berlin:20260613T193000
LOCATION:Rochusplatz 1\, 7461 Stadtschlaining\, Österreich
GEO:47.322480;16.280513
X-APPLE-STRUCTURED-LOCATION;VALUE=URI;X-ADDRESS=Rochusplatz 1\, 7461 Stadts
 chlaining\, Österreich;X-APPLE-RADIUS=49;X-TITLE=:geo:47.322480,16.280513
URL;VALUE=URI:https://hey-schweiz.com/events/694763
END:VEVENT
END:VCALENDAR
