BEGIN:VCALENDAR
PRODID:-//eluceo/ical//2.0/EN
VERSION:2.0
CALSCALE:GREGORIAN
BEGIN:VEVENT
UID:hey.bayern.694764.6555806
DTSTAMP:20260422T234616Z
SUMMARY:Sommermarkt
DTSTART;TZID=Europe/Berlin:20260828T140000
DTEND;TZID=Europe/Berlin:20260828T180000
LOCATION:6793 Gaschurn\, Österreich
GEO:46.987484;10.026087
X-APPLE-STRUCTURED-LOCATION;VALUE=URI;X-ADDRESS=6793 Gaschurn\, Österreich
 ;X-APPLE-RADIUS=49;X-TITLE=:geo:46.987484,10.026087
URL;VALUE=URI:https://hey-schweiz.com/events/694764
END:VEVENT
END:VCALENDAR
