BEGIN:VCALENDAR
PRODID:-//eluceo/ical//2.0/EN
VERSION:2.0
CALSCALE:GREGORIAN
BEGIN:VEVENT
UID:hey.bayern.694769.6555815
DTSTAMP:20260422T021428Z
SUMMARY:Steak it easy
DTSTART;TZID=Europe/Berlin:20260613T150000
DTEND;TZID=Europe/Berlin:20260613T235959
LOCATION:Filzmooser Straße 22\, 5532 Filzmoos\, Österreich
URL;VALUE=URI:https://hey-schweiz.com/events/694769
END:VEVENT
END:VCALENDAR
