BEGIN:VCALENDAR
PRODID:-//eluceo/ical//2.0/EN
VERSION:2.0
CALSCALE:GREGORIAN
BEGIN:VEVENT
UID:hey.bayern.694770.6555817
DTSTAMP:20260422T165734Z
SUMMARY:Stefani Kirtag in St. Stefan/R.
DTSTART;TZID=Europe/Berlin:20260802T000000
DTEND;TZID=Europe/Berlin:20260802T235959
URL;VALUE=URI:https://hey-schweiz.com/events/694770
END:VEVENT
END:VCALENDAR
