BEGIN:VCALENDAR
PRODID:-//eluceo/ical//2.0/EN
VERSION:2.0
CALSCALE:GREGORIAN
BEGIN:VEVENT
UID:hey.bayern.694776.6555834
DTSTAMP:20260422T050912Z
SUMMARY:Veranstaltungen auf Schloss Grades
DTSTART;TZID=Europe/Berlin:20260927T100000
DTEND;TZID=Europe/Berlin:20260928T100000
LOCATION:Schlossstraße 1\, 9362 Grades\, Österreich
URL;VALUE=URI:https://hey-schweiz.com/events/694776
END:VEVENT
END:VCALENDAR
