BEGIN:VCALENDAR
PRODID:-//eluceo/ical//2.0/EN
VERSION:2.0
CALSCALE:GREGORIAN
BEGIN:VEVENT
UID:hey.bayern.694780.6555844
DTSTAMP:20260422T004702Z
SUMMARY:Vortrag: Mit Leichtigkeit den Alltagssorgen ein Schnippchen schlage
 n
DTSTART;TZID=Europe/Berlin:20260422T190000
DTEND;TZID=Europe/Berlin:20260422T210000
LOCATION:Dorfstraße 10\, 4932 Kirchheim im Innkreis\, Österreich
GEO:48.210266;13.361123
X-APPLE-STRUCTURED-LOCATION;VALUE=URI;X-ADDRESS=Dorfstraße 10\, 4932 Kirch
 heim im Innkreis\, Österreich;X-APPLE-RADIUS=49;X-TITLE=:geo:48.210266,13
 .361123
URL;VALUE=URI:https://hey-schweiz.com/events/694780
END:VEVENT
END:VCALENDAR
