BEGIN:VCALENDAR
PRODID:-//eluceo/ical//2.0/EN
VERSION:2.0
CALSCALE:GREGORIAN
BEGIN:VEVENT
UID:hey.bayern.694786.6555942
DTSTAMP:20260423T063042Z
SUMMARY:Wooden Structures - Die Zukunft auf dem Prüfstand
DTSTART;TZID=Europe/Berlin:20260423T120000
DTEND;TZID=Europe/Berlin:20260423T170000
LOCATION:Sinnhubstraße 3\, 5020 Salzburg\, Österreich
URL;VALUE=URI:https://hey-schweiz.com/events/694786
END:VEVENT
END:VCALENDAR
