BEGIN:VCALENDAR
PRODID:-//eluceo/ical//2.0/EN
VERSION:2.0
CALSCALE:GREGORIAN
BEGIN:VEVENT
UID:hey.bayern.694811.6556066
DTSTAMP:20260422T004627Z
SUMMARY:shifting terrain
DTSTART;TZID=Europe/Berlin:20260502T170000
DTEND;TZID=Europe/Berlin:20260503T170000
LOCATION:Stiftgasse 1\, 9872 Millstatt am See\, Österreich
URL;VALUE=URI:https://hey-schweiz.com/events/694811
END:VEVENT
END:VCALENDAR
