BEGIN:VCALENDAR
PRODID:-//eluceo/ical//2.0/EN
VERSION:2.0
CALSCALE:GREGORIAN
BEGIN:VEVENT
UID:hey.bayern.694812.6556067
DTSTAMP:20260422T003633Z
SUMMARY:Ö3 Silent Cinema Open Air Kino Tour 2026
DTSTART;TZID=Europe/Berlin:20260706T194500
DTEND;TZID=Europe/Berlin:20260706T235900
LOCATION:Pfarrplatz \, 4020 Linz\, Österreich
GEO:48.306305;14.289168
X-APPLE-STRUCTURED-LOCATION;VALUE=URI;X-ADDRESS=Pfarrplatz \, 4020 Linz\, 
 Österreich;X-APPLE-RADIUS=49;X-TITLE=:geo:48.306305,14.289168
URL;VALUE=URI:https://hey-schweiz.com/events/694812
END:VEVENT
END:VCALENDAR
