BEGIN:VCALENDAR
PRODID:-//eluceo/ical//2.0/EN
VERSION:2.0
CALSCALE:GREGORIAN
BEGIN:VEVENT
UID:hey.bayern.694813.6556101
DTSTAMP:20260423T075233Z
SUMMARY:"Schnitzeltog" beim Naturhotel Bauernhofer
DTSTART;TZID=Europe/Berlin:20260527T110000
DTEND;TZID=Europe/Berlin:20260527T150000
LOCATION:Brandlucken 78\, 8172 Birkfeld\, Österreich
GEO:47.335616;15.602029
X-APPLE-STRUCTURED-LOCATION;VALUE=URI;X-ADDRESS=Brandlucken 78\, 8172 Birkf
 eld\, Österreich;X-APPLE-RADIUS=49;X-TITLE=:geo:47.335616,15.602029
URL;VALUE=URI:https://hey-schweiz.com/events/694813
END:VEVENT
END:VCALENDAR
