BEGIN:VCALENDAR
PRODID:-//eluceo/ical//2.0/EN
VERSION:2.0
CALSCALE:GREGORIAN
BEGIN:VEVENT
UID:hey.bayern.694816.6556137
DTSTAMP:20260423T105258Z
SUMMARY:10 Jahre Gospel Chor Fürstenfeld
DTSTART;TZID=Europe/Berlin:20260529T190000
DTEND;TZID=Europe/Berlin:20260529T235959
LOCATION:Übersbachgasse 13\, 8280 Fürstenfeld\, Österreich
URL;VALUE=URI:https://hey-schweiz.com/events/694816
END:VEVENT
END:VCALENDAR
