BEGIN:VCALENDAR
PRODID:-//eluceo/ical//2.0/EN
VERSION:2.0
CALSCALE:GREGORIAN
BEGIN:VEVENT
UID:hey.bayern.694817.6556138
DTSTAMP:20260423T044847Z
SUMMARY:11 Jahre Happy Hauers - Die Geburtstagsparty
DTSTART;TZID=Europe/Berlin:20260502T180000
DTEND;TZID=Europe/Berlin:20260502T235900
LOCATION:Kirchenplatz 1\, 4645 Grünau im Almtal\, Österreich
GEO:47.853497;13.956746
X-APPLE-STRUCTURED-LOCATION;VALUE=URI;X-ADDRESS=Kirchenplatz 1\, 4645 Grün
 au im Almtal\, Österreich;X-APPLE-RADIUS=49;X-TITLE=:geo:47.853497,13.956
 746
URL;VALUE=URI:https://hey-schweiz.com/events/694817
END:VEVENT
END:VCALENDAR
