BEGIN:VCALENDAR
PRODID:-//eluceo/ical//2.0/EN
VERSION:2.0
CALSCALE:GREGORIAN
BEGIN:VEVENT
UID:hey.bayern.694818.6556140
DTSTAMP:20260423T075226Z
SUMMARY:120 Jahre Löschzug Wölting mit Fahrzeugweihe
DTSTART;TZID=Europe/Berlin:20260711T080000
DTEND;TZID=Europe/Berlin:20260711T235959
LOCATION:Florianistrasse 4\, 5580 Tamsweg\, Österreich
GEO:47.144699;13.808665
X-APPLE-STRUCTURED-LOCATION;VALUE=URI;X-ADDRESS=Florianistrasse 4\, 5580 Ta
 msweg\, Österreich;X-APPLE-RADIUS=49;X-TITLE=:geo:47.144699,13.808665
URL;VALUE=URI:https://hey-schweiz.com/events/694818
END:VEVENT
END:VCALENDAR
