BEGIN:VCALENDAR
PRODID:-//eluceo/ical//2.0/EN
VERSION:2.0
CALSCALE:GREGORIAN
BEGIN:VEVENT
UID:hey.bayern.694827.6556159
DTSTAMP:20260425T025246Z
SUMMARY:Benefizkonzert
DTSTART;TZID=Europe/Berlin:20260516T190000
DTEND;TZID=Europe/Berlin:20260516T235959
LOCATION:Mirabellplatz 5\, 5020 Salzburg\, Österreich
URL;VALUE=URI:https://hey-schweiz.com/events/694827
END:VEVENT
END:VCALENDAR
